BEGIN:VCALENDAR
VERSION:2.0
PRODID:-//Wheaton Park District - ECPv6.15.17//NONSGML v1.0//EN
CALSCALE:GREGORIAN
METHOD:PUBLISH
X-ORIGINAL-URL:https://wheatonparkdistrict.com
X-WR-CALDESC:Events for Wheaton Park District
REFRESH-INTERVAL;VALUE=DURATION:PT1H
X-Robots-Tag:noindex
X-PUBLISHED-TTL:PT1H
BEGIN:VTIMEZONE
TZID:America/Chicago
BEGIN:DAYLIGHT
TZOFFSETFROM:-0600
TZOFFSETTO:-0500
TZNAME:CDT
DTSTART:20250309T080000
END:DAYLIGHT
BEGIN:STANDARD
TZOFFSETFROM:-0500
TZOFFSETTO:-0600
TZNAME:CST
DTSTART:20251102T070000
END:STANDARD
BEGIN:DAYLIGHT
TZOFFSETFROM:-0600
TZOFFSETTO:-0500
TZNAME:CDT
DTSTART:20260308T080000
END:DAYLIGHT
BEGIN:STANDARD
TZOFFSETFROM:-0500
TZOFFSETTO:-0600
TZNAME:CST
DTSTART:20261101T070000
END:STANDARD
BEGIN:DAYLIGHT
TZOFFSETFROM:-0600
TZOFFSETTO:-0500
TZNAME:CDT
DTSTART:20270314T080000
END:DAYLIGHT
BEGIN:STANDARD
TZOFFSETFROM:-0500
TZOFFSETTO:-0600
TZNAME:CST
DTSTART:20271107T070000
END:STANDARD
BEGIN:DAYLIGHT
TZOFFSETFROM:-0600
TZOFFSETTO:-0500
TZNAME:CDT
DTSTART:20280312T080000
END:DAYLIGHT
BEGIN:STANDARD
TZOFFSETFROM:-0500
TZOFFSETTO:-0600
TZNAME:CST
DTSTART:20281105T070000
END:STANDARD
END:VTIMEZONE
BEGIN:VEVENT
DTSTART;VALUE=DATE:20260601
DTEND;VALUE=DATE:20260901
DTSTAMP:20260422T040223
CREATED:20260409T213321Z
LAST-MODIFIED:20260409T213447Z
UID:18214-1780272000-1788220799@wheatonparkdistrict.com
SUMMARY:6/1-8/31: States I've Been To: A 250th Birthday Celebration of America
DESCRIPTION:States I’ve Been To: A 250th Birthday Celebration of AmericaJune-August | Mary Lubko Center (208 W. Union Ave.) | Weekdays: 8:30A-3PCelebrate America’s 250th birthday by taking a trip down memory lane—no suitcase required! Stop by the Mary Lubko Center and add a sticker to our large U.S. map for every state you’ve visited or lived in. Share a favorite travel memory\, a hometown story\, or just enjoy seeing where everyone’s adventures have taken them. Pop in and reflect on a lifetime of experiences and celebrate the many places that make up our great country.
URL:https://wheatonparkdistrict.com/events/june-august-states-ive-been-to-a-250th-birthday-celebration-of-america/
LOCATION:Mary Lubko Center\, 208 W. Union Ave.\, Wheaton\, IL\, 60187\, United States
CATEGORIES:celebrating250,Featured,Mary Lubko Center
ATTACH;FMTTYPE=image/png:https://wheatonparkdistrict.com/wp-content/uploads/States-Ive-Been-To.png
END:VEVENT
BEGIN:VEVENT
DTSTART;VALUE=DATE:20260629
DTEND;VALUE=DATE:20260705
DTSTAMP:20260422T040223
CREATED:20230614T192846Z
LAST-MODIFIED:20260409T211105Z
UID:12616-1782691200-1783209599@wheatonparkdistrict.com
SUMMARY:6/29-7/4: Field of Honor®
DESCRIPTION:July 3:\nFireworks & Drone Show at Graf Park\n\nJuly 4:\nParade in Downtown Wheaton Field of Honor®June 29-July 4  | Seven Gables ParkCome see 2\,000 American flags on display!In celebration of the 250th Anniversary of the United States\, the Wheaton Field of Honor proudly returns for its 5th year\, offering a powerful and inspiring patriotic experience for the entire community. As our nation marks this historic milestone\, this meaningful tradition provides a special opportunity to reflect on the courage\, sacrifice\, and service that have shaped America for two and a half centuries. \nDuring this special five-day display\, 2\,000 American flags stand in perfectly aligned rows\, creating a breathtaking tribute to soldiers\, veterans\, first responders\, and personal heroes. Each flag is dedicated to an individual and represents stories of courage\, sacrifice\, and service. Community members and volunteers work together to create and maintain the display with the utmost care and respect. \nVisitors are encouraged to stroll through the Field of Honor and experience the moving atmosphere of unity and gratitude. Nightly patriotic elements- including vocalists\, bagpipers\, drummers\, Honor Guards\, flyovers\, and the playing of Taps- add to the meaningful experience and provide moments of reflection for all ages. \nJoin us at Seven Gables Park as we celebrate 250 years of American freedom and honor those who continue to serve and protect our nation. \nIf you would like to dedicate an American Flag at the Wheaton Field of Honor\, please visit healingfield.org/event/wheaton-il \nPurchase a FlagEvent ScheduleStay tuned for the event schedule coming over the next couple of weeks. \nFollowFollow this event on Facebook for up-to-date daily events and patriotic performances. \nVolunteerTo volunteer for this patriotic event\, please email rudy_keller@comcast.net. \nGalleryPhotos by Marian Kraus Photography. All Rights Reserved.
URL:https://wheatonparkdistrict.com/events/field-of-honor/
LOCATION:Seven Gables Park\, 1750 S Naperville Rd\, Wheaton\, Illinois\, 60189
CATEGORIES:celebrating250,Charitable Event,Family-friendly,Featured,Fourth of July,Free
ATTACH;FMTTYPE=image/png:https://wheatonparkdistrict.com/wp-content/uploads/Field-of-Honor-event.png
END:VEVENT
BEGIN:VEVENT
DTSTART;VALUE=DATE:20260701
DTEND;VALUE=DATE:20260801
DTSTAMP:20260422T040223
CREATED:20260409T195856Z
LAST-MODIFIED:20260409T211819Z
UID:18202-1782864000-1785542399@wheatonparkdistrict.com
SUMMARY:7/1-7/31: Arrowhead Restaurant Specials
DESCRIPTION:Arrowhead Restaurant SpecialsJuly 1-31 | Arrowhead Golf Club (26W151 Butterfield Rd.)July 1-31 | Bomb Pop Dessert for Kids\nKids enjoy a free Bomb Pop with the purchase of a kids meal when you dine-in all month long in July \nJuly 3-5 | Beer Special\nEnjoy $2.50 domestic drafts in the restaurant during Independence Day weekend \nJuly 4-31 | Free Appetizer \nMake your July 3 memories even sweeter at Arrowhead Golf Club! After enjoying the fireworks at Graf Park on July 3\, bring in your 3D glasses and enjoy a complimentary appetizer with dine-in! \nMake a Reservation
URL:https://wheatonparkdistrict.com/events/throughout-july-arrowhead-restaurant-specials/
LOCATION:Arrowhead Golf Club\, 26W151 Butterfield Rd\, Wheaton\, IL\, 60189\, United States
CATEGORIES:Arrowhead Golf Club,celebrating250,Featured
ATTACH;FMTTYPE=image/png:https://wheatonparkdistrict.com/wp-content/uploads/AGC-Restaurant-Specials-US-1.png
END:VEVENT
BEGIN:VEVENT
DTSTART;VALUE=DATE:20260703
DTEND;VALUE=DATE:20260705
DTSTAMP:20260422T040223
CREATED:20200625T204726Z
LAST-MODIFIED:20260414T201919Z
UID:8391-1783036800-1783209599@wheatonparkdistrict.com
SUMMARY:7/3-7/4: Independence Day Celebration
DESCRIPTION:Independence Day CelebrationCelebrate all week long!Wheaton will commemorate America’s 250th anniversary by honoring our rich history\, celebrating the individuals in our community who have helped shape it\, and looking ahead to the generations that will carry it forward. \n JULY 3 | Fireworks\, Drone Show & Festivities Graf Park | 5:30P \nFireworks and Drone Show will begin around 9P; until then family fun and festivities \n JULY 4 | Parade | Parade Route (PDF) Downtown Wheaton | 10A \nCelebrate alongside neighbors\, family and friends\, or design a float to honor the essence of the Fourth of July. \nAny delays or cancellations due to inclement weather will be posted here\, the Wheaton Park District Facebook page\, and RainoutLine. \n JULY 3 | Fireworks\, Drone Show & Festivities | Graf Park | 5:30P Gather your crew\, show your pride\, and come enjoy a family-friendly evening full of laughter\, lights\, and local flavor! Join us for kids games\, music\, giveaways\, and more. \nFood Vendors:Interested in becoming a food vendor? Contact events@wheatonparks.org for more information. \nPark Policies:The use of sparklers\, smoke bombs or any other type of fireworks is prohibited. Individuals will be held responsible for any damage caused. \nNO PETS allowed in the park. Service animals are permitted. \nOutside alcoholic beverages are prohibited. \nNo firearms are permitted to be taken into Wheaton Park District buildings or onto Wheaton Park District grounds. The Wheaton Park District is a government agency and pursuant to Illinois’ Concealed Carry Law restrictions. \nNo weapons (including pocket knives) of any kind are allowed on the property. \nAll tobacco products including cigarettes\, cigars and vaping are not allowed. Smoking of any kind is prohibited in Graf Park\, including marijuana. \n JULY 4 | Parade | Downtown Wheaton | 10AJoin Wheaton’s 2026 Independence Day Parade!Help us celebrate America’s 250th anniversary by decorating your parade entry in patriotic red\, white\, and blue! \nRegister NowJuly 4 Parade Route (PDF) \n Image Gallery  More Information Contact Us:Please email events@wheatonparks.org for more information or questions about the July 3 & 4 festivities.
URL:https://wheatonparkdistrict.com/events/july4/
LOCATION:Various Locations
CATEGORIES:celebrating250,Downtown Wheaton,Family-friendly,Featured,Fourth of July,Holiday
ATTACH;FMTTYPE=image/jpeg:https://wheatonparkdistrict.com/wp-content/uploads/July-3-and-4-.jpg
END:VEVENT
BEGIN:VEVENT
DTSTART;TZID=America/Chicago:20260704T100000
DTEND;TZID=America/Chicago:20260705T160000
DTSTAMP:20260422T040223
CREATED:20260409T203626Z
LAST-MODIFIED:20260409T221303Z
UID:18207-1783159200-1783267200@wheatonparkdistrict.com
SUMMARY:7/4 & 7/5: 250 Liberty Franks at Cosley Zoo
DESCRIPTION:Enjoy a Liberty Frank for only $2.50July 4 & 5 | 10A-4P | Cosley Zoo (1356 N. Gary Ave.)This founding frank is All-American!\nEnjoy a delicious hot dog from the concession stand at Cosley Zoo for only $2.50 in honor of America’s anniversary. Admission fees apply. \nVisit Cosley Zoo
URL:https://wheatonparkdistrict.com/events/250-liberty-franks/
LOCATION:Cosley Zoo\, 1356 North Gary Ave\, Wheaton\, IL\, 60187\, United States
CATEGORIES:celebrating250,Cosley Zoo,Featured
ATTACH;FMTTYPE=image/png:https://wheatonparkdistrict.com/wp-content/uploads/Cosley-Concession-250-hotdog-2.png
END:VEVENT
BEGIN:VEVENT
DTSTART;TZID=America/Chicago:20260710T100000
DTEND;TZID=America/Chicago:20260710T113000
DTSTAMP:20260422T040223
CREATED:20260309T195435Z
LAST-MODIFIED:20260309T200044Z
UID:18068-1783677600-1783683000@wheatonparkdistrict.com
SUMMARY:7/10: Plug into Nature
DESCRIPTION:Plug into NatureFriday\, July 10 | 10A-11:30 | Lincoln Marsh – Prairie Patch Play Area1000 W. Lincoln Ave\, Wheaton\n\nCelebrate Unplug Illinois Day! \n\n\n\n\nFREE! \nAll Ages \nLincoln Marsh joins the Illinois Park and Recreation Association community awareness campaign to “Unplug Illinois”. Ditch your electronic devices and join us to plug into nature at the Prairie Patch Play Area. Enjoy activities\, crafts\, and open play! \nProgram is held entirely outdoors\, please dress appropriately. \nQuestions? Contact the Lincoln Marsh office at lincolnmarsh@wheatonparks.org or at 630-871-2810. \n\n\nRegister
URL:https://wheatonparkdistrict.com/events/7-10-plug-into-nature/
LOCATION:Lincoln Marsh\, Harrison Ave & Pierce Ave\, Wheaton\, IL\, 60187
CATEGORIES:Conservation,Early Childhood,Educational,Family-friendly,Featured,Free,Play Days
ATTACH;FMTTYPE=image/png:https://wheatonparkdistrict.com/wp-content/uploads/Plug-into-Nature.png
END:VEVENT
BEGIN:VEVENT
DTSTART;TZID=America/Chicago:20260710T110000
DTEND;TZID=America/Chicago:20260710T200000
DTSTAMP:20260422T040223
CREATED:20260410T225627Z
LAST-MODIFIED:20260410T225643Z
UID:18234-1783681200-1783713600@wheatonparkdistrict.com
SUMMARY:7/10: Kids Golf for Free
DESCRIPTION:Kids Golf for FreeFriday\, July 10 | 11A-8P | Clocktower Mini Golf & Skate Park (S. Naperville Rd.  & E. Liberty Dr.)Ages 17 & Under \nUnplug from the electronic device with some mini golf! We are celebrating Unplug Illinois\, an initiative by the Illinois Park and Recreation Association that encourages plugging into play\, creativity\, friendship\, adventure and family.
URL:https://wheatonparkdistrict.com/events/7-10-kids-golf-for-free/
LOCATION:Clocktower Mini Golf Skate Park\, S Naperville Rd & E Liberty Dr\, Wheaton\, IL\, 60187\, United States
CATEGORIES:clocktower,Family-friendly,Featured
ATTACH;FMTTYPE=image/jpeg:https://wheatonparkdistrict.com/wp-content/uploads/mini-golf.jpg
END:VEVENT
BEGIN:VEVENT
DTSTART;TZID=America/Chicago:20260711T100000
DTEND;TZID=America/Chicago:20260711T130000
DTSTAMP:20260422T040223
CREATED:20260410T181544Z
LAST-MODIFIED:20260417T211310Z
UID:18220-1783764000-1783774800@wheatonparkdistrict.com
SUMMARY:7/11: Stars & Pars Putt Putt Tournament
DESCRIPTION:Stars & Pars Putt Putt TournamentSaturday\, July 11 | 10A-1P | Clocktower Mini Golf & Skate Park (S. Naperville Rd.  & E. Liberty Dr.)Ages 8-14 \nGet ready to tee off for the Red\, White\, and Blue! Join us for our Youth Stars & Pars Mini-Golf Tournament\, where the fairways are festive and the competition is friendly. Whether you’re a seasoned pro or a first-time putter\, come show off your skills (and your stars and stripes) as we celebrate our community through 18 holes of fun. \nTee times will vary\, and divisions may be created based on the number of participants. \nPrizes and giveaways will be awarded. \nRegistration opens on April 28 for residents and May 12 for nonresidents.$10(R)/$13(NR)
URL:https://wheatonparkdistrict.com/events/7-11-stars-pars-putt-putt-tournament/
LOCATION:Clocktower Mini Golf Skate Park\, S Naperville Rd & E Liberty Dr\, Wheaton\, IL\, 60187\, United States
CATEGORIES:celebrating250,clocktower,Family-friendly,Featured
ATTACH;FMTTYPE=image/png:https://wheatonparkdistrict.com/wp-content/uploads/Stars-and-Pars-Putt-Putt-Tournament-1.png
END:VEVENT
BEGIN:VEVENT
DTSTART;VALUE=DATE:20260715
DTEND;VALUE=DATE:20270411
DTSTAMP:20260422T040223
CREATED:20260410T200216Z
LAST-MODIFIED:20260410T201039Z
UID:18223-1784073600-1807401599@wheatonparkdistrict.com
SUMMARY:Starting 7/15: Defining US: The 250th Anniversary of the United States Exhibit
DESCRIPTION:Defining US: The 250th Anniversary of the United States ExhibitJuly 15\, 2026-April 10\, 2027 | DuPage County Historical Museum (102 E. Wesley St.)Hours* | Monday-Friday: 8:30A-4:30P | Saturday & Sunday: 12-4P \nDefining US: The 250th Anniversary of the United States explores the significant events\, moments\, and milestones that have shaped the United States over the course of its 250 years as a country. Through wars\, elections\, protests\, and cultural changes\, this exhibit emphasizes how these historic highlights resonated in DuPage County. \n*Hours will be affected by major holidays. Visit dupagemuseum.org/visit for details. \nAdmission to the DuPage County Historical Museum is free. Donations are greatly appreciated to help create new exhibits and keep our facility open and operating. The suggested donation amount is $5 for adults and $2 for children and seniors.
URL:https://wheatonparkdistrict.com/events/starting-7-15-defining-us-the-250th-anniversary-of-the-united-states-exhibit/
LOCATION:DuPage County Historical Museum\, 102 E Wesley St\, Wheaton\, IL\, 60187\, United States
CATEGORIES:celebrating250,DuPage County Historical Museum,Featured
ATTACH;FMTTYPE=image/png:https://wheatonparkdistrict.com/wp-content/uploads/the-250-anniv-of-the-us-exhibit-3.png
END:VEVENT
BEGIN:VEVENT
DTSTART;TZID=America/Chicago:20260717T180000
DTEND;TZID=America/Chicago:20260717T213000
DTSTAMP:20260422T040223
CREATED:20260420T190229Z
LAST-MODIFIED:20260420T190229Z
UID:18282-1784311200-1784323800@wheatonparkdistrict.com
SUMMARY:7/17: Radio Gaga – A Tribute to Queen and Lady Gaga with The Divas
DESCRIPTION:Radio Gaga – A Tribute to Queen and Lady Gaga with The DivasFriday\, July 17 | 6-9:30P | Gate opens at 5P | Memorial Park$10 in advance† | $12 at the gate\n†Plus processing fee \nPurchase TicketsPerformance Details:8-9:30P | Radio Gaga – A Tribute to Queen and Lady Gaga \nRadio Gaga is a high-impact\, Vegas-style production built around “The Concert That Never Was.” Imagine a world where Freddie Mercury and Lady Gaga share the stage—two icons\, one electrifying show. Blending the legendary catalog of Queen with Gaga’s biggest hits\, this immersive experience features powerhouse vocals\, stunning choreography\, multiple costume changes\, and dynamic visual production. It’s more than a tribute—it’s a fantasy brought to life\, delivering nonstop energy\, unforgettable moments\, and a concert experience audiences didn’t know they were missing…until now. \nWebsite: radiogagatour.com \n6-7:15P | The Divas \nThe Divas are Chicago’s newest ALL FEMALE FRONTED pop cover group\, ready to bring the party with their powerhouse vocals\, infectious choreography\, electrifying band\, and captivating stage presence. Playing the hits from all your favorite DIVAS past and present (think Aretha\, Whitney\, Beyoncé\, Lady Gaga\, Cher and more)\, The Divas are sure to have you dancing and singing along all night long. Are you ready to experience a live music event like no other? \nWebsite: thedivaschi.com
URL:https://wheatonparkdistrict.com/events/7-17-radio-gaga-a-tribute-to-queen-and-lady-gaga-with-the-divas/
LOCATION:Illinois
CATEGORIES:Featured,Memorial Park Concerts
ATTACH;FMTTYPE=image/jpeg:https://wheatonparkdistrict.com/wp-content/uploads/JULY-17.jpg
END:VEVENT
BEGIN:VEVENT
DTSTART;TZID=America/Chicago:20260718T100000
DTEND;TZID=America/Chicago:20260718T120000
DTSTAMP:20260422T040223
CREATED:20260224T191416Z
LAST-MODIFIED:20260317T150640Z
UID:18026-1784368800-1784376000@wheatonparkdistrict.com
SUMMARY:7/18: Summer Saturday: Beach Bash
DESCRIPTION:Summer Saturday: Beach BashSaturday\, July 18 | 10A-12PSensory Garden Playground | 2751 International Drive\, LisleCome by the Sensory Garden Playground for all-inclusive play! \nA summer splash\, without the ocean! Join us at the Sensory Garden Playground for a Beach Bash featuring various departments across the Wheaton Park District. \nSummer fun activities include various games that would be found along a pier\, including Bozo Buckets\, fishing for a prize\, and a water gun accuracy contest. Playground visitors can try their hand at completing the summer scavenger activity challenge. Additionally\, we will have an ice cream truck out at the playground to cool off from the summer heat. \nSummer Saturdays are held from 10A to noon at the playground. The event is free\, but registration is encouraged\, and there is a $5 suggested donation per family. Water bottles from Culligan will be available at the playground. In the event of inclement weather\, the Summer Saturday may be cancelled. \nLet us know you’re coming!Going to a Summer Saturday | Social Story™ \nThe Wheaton Park District understands that visiting a new place or engaging in public activities can sometimes be challenging for individuals with different needs. That’s why we offer Social Stories™ to help visitors feel comfortable and confident. \n* The terms ‘social story’ and ‘social stories’ are trademarks originated and owned by Carol Gray. https://carolgraysocialstories.com/social-stories/ \nPresented bySummer Saturdays is supported by
URL:https://wheatonparkdistrict.com/events/7-18-summer-saturday-beach-bash/
LOCATION:Sensory Garden Playground\, 2751 International Dr.\, Lisle\, IL\, 60532\, United States
CATEGORIES:Family-friendly,Featured
ATTACH;FMTTYPE=image/png:https://wheatonparkdistrict.com/wp-content/uploads/Summer-Saturday-Beach-Bash.png
END:VEVENT
BEGIN:VEVENT
DTSTART;TZID=America/Chicago:20260718T193000
DTEND;TZID=America/Chicago:20260718T210000
DTSTAMP:20260422T040223
CREATED:20260420T190855Z
LAST-MODIFIED:20260420T190855Z
UID:18284-1784403000-1784408400@wheatonparkdistrict.com
SUMMARY:7/18: LANCO
DESCRIPTION:LANCOSaturday\, July 18 | 7:30-9P | Memorial Park$20 in advance† | $25 at the gate†Plus processing fee \nPurchase TicketsPerformance Details:7:30-9P | LANCO \nFormed nearly a decade ago\, LANCO has cemented itself as one of country music’s most dynamic acts. Their debut album\, Hallelujah Nights\, debuted at No. 1 on the Billboard Top Country Albums chart and featured the 2X Platinum hit “Greatest Love Story” and the Platinum-certified “Born to Love You.” Their catalog also includes the EPs Lessons Learned\, Honky Tonk Hippies\, and Run\, Run Baby.LANCO continued their evolution with their sophomore album\, We’re Gonna Make It (Riser House Records)\, showcasing a fresh yet authentic sound rooted in storytelling and heartland energy. Most recently\, the band released “Call You a Friend\,” a new collaboration with Eli Young Band\, ahead of their joint headline run. \nThe band has earned nominations from the Country Music Association\, American Music Awards\, iHeartRadio Music Awards\, and the Academy of Country Music Awards\, taking home ACM New Duo/Group of the Year. The band has shared the stage with acts like Miranda Lambert\, Luke Combs\, Dierks Bentley\, and Kane Brown. LANCO will hit the road with Eli Young Band on the Call You a Friend Tour beginning February 2026 in Marietta\, OH\, while continuing to headline their own dates. \nWebsite: lancomusic.com
URL:https://wheatonparkdistrict.com/events/7-18-lanco/
LOCATION:Memorial Park Bandshell\, 225 Karlskoga Avenue\, Wheaton\, Illinois\, 60187
CATEGORIES:Featured,Memorial Park Concerts
ATTACH;FMTTYPE=image/jpeg:https://wheatonparkdistrict.com/wp-content/uploads/JULY-18.jpg
END:VEVENT
BEGIN:VEVENT
DTSTART;TZID=America/Chicago:20260719T150000
DTEND;TZID=America/Chicago:20260719T163000
DTSTAMP:20260422T040223
CREATED:20260420T191359Z
LAST-MODIFIED:20260420T192121Z
UID:18286-1784473200-1784478600@wheatonparkdistrict.com
SUMMARY:7/19: DuPage Symphony Orchestra
DESCRIPTION:DuPage Symphony OrchestraSunday\, July 19 | 3-4:30P | Gate opens at 2P | Memorial ParkFREE!\nPerformance Details:3-4:30P | DuPage Symphony Orchestra \nThe DuPage Symphony Orchestra (DSO) is a highly accomplished\, award-winning symphony orchestra based in Naperville\, Illinois. Entering its 73rd season\, the DSO is dedicated to presenting inspiring orchestral performances\, fostering music education\, and promoting community engagement through the power of live music. Under the baton of Music Director and Conductor Barbara Schubert\, the DSO’s July 2026 concert at Wheaton’s Memorial Park will feature an array of colorful and exhilarating repertoire\, with selections that contribute to the Park District’s celebration of the America 250 anniversary. \nWebsite: dupagesymphony.org
URL:https://wheatonparkdistrict.com/events/7-19-dupage-symphony-orchestra/
LOCATION:Memorial Park Bandshell\, 225 Karlskoga Avenue\, Wheaton\, Illinois\, 60187
CATEGORIES:Featured,Free,Memorial Park Concerts
ATTACH;FMTTYPE=image/jpeg:https://wheatonparkdistrict.com/wp-content/uploads/JULY-19.jpg
END:VEVENT
BEGIN:VEVENT
DTSTART;TZID=America/Chicago:20260724T180000
DTEND;TZID=America/Chicago:20260724T213000
DTSTAMP:20260422T040223
CREATED:20260420T192630Z
LAST-MODIFIED:20260420T192630Z
UID:18289-1784916000-1784928600@wheatonparkdistrict.com
SUMMARY:7/24: The Brothers Gibb with The Disco Circus
DESCRIPTION:The Brothers Gibb with The Disco CircusFriday\, July 24 | 6-9:30P | Gate opens at 5P | Memorial Park$10 in advance† | $12 at the gate\n†Plus processing fee \nPurchase TicketsPerformance Details:8-9:30P | The Brothers Gibb \nThe Bee Gees didn’t just define an era—they created it. With over 220 million records sold and nine #1 hits\, their music became the heartbeat of a generation\, from timeless ballads to the disco anthems that lit up dance floors around the world. \nThe Brothers Gibb delivers a high-energy\, full-career retrospective that captures the sound\, style\, and spirit of the Bee Gees—from their early hits through the iconic Saturday Night Fever era and beyond. Featuring stunning falsetto vocals\, rich harmonies\, and an authentic live-band experience\, this show brings the magic of the Bee Gees back to life. \nSo grab your bell bottoms\, hit the dance floor\, and relive the songs that made history. \nWebsite: thebrothersgibb.com \n6-7:15P | The Disco Circus \n“We’re bringing DISCO BACK!” \nChicago-based disco/funk tribute band\, The Disco Circus\, creates a NEXT LEVEL nostalgic experience by combining the energy and excitement of a 3-ring circus with the grooviest music from the 1970s! \nWith explosive energy and a vibrant take on classic disco hits\, The Disco Circus delivers a nonstop party experience. Featuring powerhouse vocals\, groovy beats\, theatrical flair\, and playful onstage shenanigans\, the band invites audiences to dance\, sing along\, and relive the magic of disco in a bold\, over-the-top show that’s equal parts nostalgia and spectacle. If you’re longing for the days of platform shoes\, bell bottoms\, sparkles galore and music that gets your booty movin’…then put on some polyester and your boogie shoes and let The Disco Circus take you directly to Funkytown! \nWebsite: thediscocircusband.com
URL:https://wheatonparkdistrict.com/events/7-24-the-brothers-gibb-with-the-disco-circus/
LOCATION:Memorial Park Bandshell\, 225 Karlskoga Avenue\, Wheaton\, Illinois\, 60187
CATEGORIES:Featured,Memorial Park Concerts
ATTACH;FMTTYPE=image/jpeg:https://wheatonparkdistrict.com/wp-content/uploads/JULY-24.jpg
END:VEVENT
BEGIN:VEVENT
DTSTART;TZID=America/Chicago:20260725T180000
DTEND;TZID=America/Chicago:20260725T213000
DTSTAMP:20260422T040223
CREATED:20260420T193122Z
LAST-MODIFIED:20260420T193122Z
UID:18291-1785002400-1785015000@wheatonparkdistrict.com
SUMMARY:7/25: The PettyBreakers – with The Fortunate Sons
DESCRIPTION:The PettyBreakers – A Tribute to Tom Petty with The Fortunate Sons – A Tribute to Creedence Clearwater RevivalSaturday\, July 25 | 6-9:30P | Gate opens at 5P | Memorial Park$10 in advance† | $12 at the gate\n†Plus processing fee \nPurchase TicketsPerformance Details:8-9:30P | The PettyBreakers – A Tribute to Tom Petty \nWhat started out in 2010 as a regional band is now the Nations’ #1 touring tribute to Tom Petty. The PettyBreakers are known for their performances dedicated to capturing the essence and sound of a live Tom Petty and the Heartbreakers concert. \nThe band has played in 26 states and Washington D.C. Having performed at many performing arts centers\, theaters\, casinos\, clubs\, festivals and corporate and other private events\, one of the highlights so far was performing the iconic catalog of Tom Petty and the Heartbreakers live at the Naval Yard in Washington D.C. in 2018 for Major League Baseball’s Allstars Pregame Celebration. \nWebsite: thepettybreakers.com \n6-7:15P | The Fortunate Sons – A Tribute to Creedence Clearwater Revival \nThe Fortunate Sons are the world’s premier tribute to America’s greatest band: Creedence Clearwater Revival. Based in Chicago\, the band tours nationally and internationally to keep the tradition of CCR’s timeless music alive. Using original vintage gear and instruments\, accurate costumes\, and spot-on musical ability\, The Fortunate Sons instantly conjure up the full experience of seeing Creedence in their prime. \nWebsite: fortunatesons.com
URL:https://wheatonparkdistrict.com/events/7-25-the-pettybreakers-with-the-fortunate-sons/
LOCATION:Memorial Park Bandshell\, 225 Karlskoga Avenue\, Wheaton\, Illinois\, 60187
CATEGORIES:Featured,Memorial Park Concerts
ATTACH;FMTTYPE=image/jpeg:https://wheatonparkdistrict.com/wp-content/uploads/JULY-25.jpg
END:VEVENT
END:VCALENDAR