BEGIN:VCALENDAR
VERSION:2.0
PRODID:-//Wheaton Park District - ECPv6.15.17//NONSGML v1.0//EN
CALSCALE:GREGORIAN
METHOD:PUBLISH
X-WR-CALNAME:Wheaton Park District
X-ORIGINAL-URL:https://wheatonparkdistrict.com
X-WR-CALDESC:Events for Wheaton Park District
REFRESH-INTERVAL;VALUE=DURATION:PT1H
X-Robots-Tag:noindex
X-PUBLISHED-TTL:PT1H
BEGIN:VTIMEZONE
TZID:America/Chicago
BEGIN:DAYLIGHT
TZOFFSETFROM:-0600
TZOFFSETTO:-0500
TZNAME:CDT
DTSTART:20250309T080000
END:DAYLIGHT
BEGIN:STANDARD
TZOFFSETFROM:-0500
TZOFFSETTO:-0600
TZNAME:CST
DTSTART:20251102T070000
END:STANDARD
BEGIN:DAYLIGHT
TZOFFSETFROM:-0600
TZOFFSETTO:-0500
TZNAME:CDT
DTSTART:20260308T080000
END:DAYLIGHT
BEGIN:STANDARD
TZOFFSETFROM:-0500
TZOFFSETTO:-0600
TZNAME:CST
DTSTART:20261101T070000
END:STANDARD
BEGIN:DAYLIGHT
TZOFFSETFROM:-0600
TZOFFSETTO:-0500
TZNAME:CDT
DTSTART:20270314T080000
END:DAYLIGHT
BEGIN:STANDARD
TZOFFSETFROM:-0500
TZOFFSETTO:-0600
TZNAME:CST
DTSTART:20271107T070000
END:STANDARD
BEGIN:DAYLIGHT
TZOFFSETFROM:-0600
TZOFFSETTO:-0500
TZNAME:CDT
DTSTART:20280312T080000
END:DAYLIGHT
BEGIN:STANDARD
TZOFFSETFROM:-0500
TZOFFSETTO:-0600
TZNAME:CST
DTSTART:20281105T070000
END:STANDARD
END:VTIMEZONE
BEGIN:VEVENT
DTSTART;VALUE=DATE:20260715
DTEND;VALUE=DATE:20270411
DTSTAMP:20260424T061146
CREATED:20260410T200216Z
LAST-MODIFIED:20260410T201039Z
UID:18223-1784073600-1807401599@wheatonparkdistrict.com
SUMMARY:Starting 7/15: Defining US: The 250th Anniversary of the United States Exhibit
DESCRIPTION:Defining US: The 250th Anniversary of the United States ExhibitJuly 15\, 2026-April 10\, 2027 | DuPage County Historical Museum (102 E. Wesley St.)Hours* | Monday-Friday: 8:30A-4:30P | Saturday & Sunday: 12-4P \nDefining US: The 250th Anniversary of the United States explores the significant events\, moments\, and milestones that have shaped the United States over the course of its 250 years as a country. Through wars\, elections\, protests\, and cultural changes\, this exhibit emphasizes how these historic highlights resonated in DuPage County. \n*Hours will be affected by major holidays. Visit dupagemuseum.org/visit for details. \nAdmission to the DuPage County Historical Museum is free. Donations are greatly appreciated to help create new exhibits and keep our facility open and operating. The suggested donation amount is $5 for adults and $2 for children and seniors.
URL:https://wheatonparkdistrict.com/events/starting-7-15-defining-us-the-250th-anniversary-of-the-united-states-exhibit/
LOCATION:DuPage County Historical Museum\, 102 E Wesley St\, Wheaton\, IL\, 60187\, United States
CATEGORIES:celebrating250,DuPage County Historical Museum,Featured
ATTACH;FMTTYPE=image/png:https://wheatonparkdistrict.com/wp-content/uploads/the-250-anniv-of-the-us-exhibit-3.png
END:VEVENT
BEGIN:VEVENT
DTSTART;VALUE=DATE:20260815
DTEND;VALUE=DATE:20261115
DTSTAMP:20260424T061146
CREATED:20260113T161046Z
LAST-MODIFIED:20260114T161809Z
UID:17819-1786752000-1794700799@wheatonparkdistrict.com
SUMMARY:8/15: The Mother Road & Iconic DuPage Firsts Exhibit
DESCRIPTION:The Mother Road & Iconic DuPage Firsts ExhibitAugust 15 – November 14\, 2026 | DuPage County Historical MuseumTake a ride down memory lane on Route 66. This year the legendary “Mother Road” turns 100! Celebrate this golden anniversary along with other iconic firsts in DuPage County. Learn about the first 18-hole golf course\, the first rails-to-trails conversion\, the first public library\, and the first shot fired at Gettysburg. \nContributors:
URL:https://wheatonparkdistrict.com/events/8-15-the-mother-road-iconic-dupage-firsts-exhibit/
LOCATION:DuPage County Historical Museum\, 102 E Wesley St\, Wheaton\, IL\, 60187\, United States
CATEGORIES:Featured
ATTACH;FMTTYPE=image/jpeg:https://wheatonparkdistrict.com/wp-content/uploads/Route-66-Logo-Heading.jpg
END:VEVENT
END:VCALENDAR