BEGIN:VCALENDAR
VERSION:2.0
PRODID:-//Wheaton Park District - ECPv6.15.17//NONSGML v1.0//EN
CALSCALE:GREGORIAN
METHOD:PUBLISH
X-ORIGINAL-URL:https://wheatonparkdistrict.com
X-WR-CALDESC:Events for Wheaton Park District
REFRESH-INTERVAL;VALUE=DURATION:PT1H
X-Robots-Tag:noindex
X-PUBLISHED-TTL:PT1H
BEGIN:VTIMEZONE
TZID:America/Chicago
BEGIN:DAYLIGHT
TZOFFSETFROM:-0600
TZOFFSETTO:-0500
TZNAME:CDT
DTSTART:20250309T080000
END:DAYLIGHT
BEGIN:STANDARD
TZOFFSETFROM:-0500
TZOFFSETTO:-0600
TZNAME:CST
DTSTART:20251102T070000
END:STANDARD
BEGIN:DAYLIGHT
TZOFFSETFROM:-0600
TZOFFSETTO:-0500
TZNAME:CDT
DTSTART:20260308T080000
END:DAYLIGHT
BEGIN:STANDARD
TZOFFSETFROM:-0500
TZOFFSETTO:-0600
TZNAME:CST
DTSTART:20261101T070000
END:STANDARD
BEGIN:DAYLIGHT
TZOFFSETFROM:-0600
TZOFFSETTO:-0500
TZNAME:CDT
DTSTART:20270314T080000
END:DAYLIGHT
BEGIN:STANDARD
TZOFFSETFROM:-0500
TZOFFSETTO:-0600
TZNAME:CST
DTSTART:20271107T070000
END:STANDARD
END:VTIMEZONE
BEGIN:VEVENT
DTSTART;TZID=America/Chicago:20260725T180000
DTEND;TZID=America/Chicago:20260725T213000
DTSTAMP:20260422T081432
CREATED:20260420T193122Z
LAST-MODIFIED:20260420T193122Z
UID:18291-1785002400-1785015000@wheatonparkdistrict.com
SUMMARY:7/25: The PettyBreakers – with The Fortunate Sons
DESCRIPTION:The PettyBreakers – A Tribute to Tom Petty with The Fortunate Sons – A Tribute to Creedence Clearwater RevivalSaturday\, July 25 | 6-9:30P | Gate opens at 5P | Memorial Park$10 in advance† | $12 at the gate\n†Plus processing fee \nPurchase TicketsPerformance Details:8-9:30P | The PettyBreakers – A Tribute to Tom Petty \nWhat started out in 2010 as a regional band is now the Nations’ #1 touring tribute to Tom Petty. The PettyBreakers are known for their performances dedicated to capturing the essence and sound of a live Tom Petty and the Heartbreakers concert. \nThe band has played in 26 states and Washington D.C. Having performed at many performing arts centers\, theaters\, casinos\, clubs\, festivals and corporate and other private events\, one of the highlights so far was performing the iconic catalog of Tom Petty and the Heartbreakers live at the Naval Yard in Washington D.C. in 2018 for Major League Baseball’s Allstars Pregame Celebration. \nWebsite: thepettybreakers.com \n6-7:15P | The Fortunate Sons – A Tribute to Creedence Clearwater Revival \nThe Fortunate Sons are the world’s premier tribute to America’s greatest band: Creedence Clearwater Revival. Based in Chicago\, the band tours nationally and internationally to keep the tradition of CCR’s timeless music alive. Using original vintage gear and instruments\, accurate costumes\, and spot-on musical ability\, The Fortunate Sons instantly conjure up the full experience of seeing Creedence in their prime. \nWebsite: fortunatesons.com
URL:https://wheatonparkdistrict.com/events/7-25-the-pettybreakers-with-the-fortunate-sons/
LOCATION:Memorial Park Bandshell\, 225 Karlskoga Avenue\, Wheaton\, Illinois\, 60187
CATEGORIES:Featured,Memorial Park Concerts
ATTACH;FMTTYPE=image/jpeg:https://wheatonparkdistrict.com/wp-content/uploads/JULY-25.jpg
END:VEVENT
BEGIN:VEVENT
DTSTART;TZID=America/Chicago:20260803T103000
DTEND;TZID=America/Chicago:20260803T190000
DTSTAMP:20260422T081432
CREATED:20180606T050133Z
LAST-MODIFIED:20260402T132707Z
UID:3247-1785753000-1785783600@wheatonparkdistrict.com
SUMMARY:8/3: Mike Williams Cosley Zoo Classic
DESCRIPTION:Photo by Larry Kmiecik \nMike Williams Cosley Zoo ClassicMonday\, August 3 | 10:30A Check-In\, 12P Shotgun Start | Arrowhead Golf ClubJoin the Cosley Foundation for the Mike Williams Cosley Zoo Classic Golf Outing! Registration includes 18 holes of golf\, on-course gimmicks\, entertainment\, lunch\, dinner and animal visits. \nFee: $225 per golfer | $850 per foursome \nRegister NowPartner With Us2026 Cosley Classic Sponsorship Opportunities (PDF) \nFor additional information or questions regarding partnering with us on this event\, don’t hesitate to reach out to Jenny Ackerman at jackerman@wheatonparks.org or 630-510-4961. \nContact UsFor questions\, please contact Jenny Ackerman at jackerman@wheatonparks.org or 630-510-4961. \nImage GallerySponsored By
URL:https://wheatonparkdistrict.com/events/cosley-classic/
LOCATION:Arrowhead Golf Club\, 26W151 Butterfield Rd\, Wheaton\, IL\, 60189\, United States
CATEGORIES:Arrowhead Golf Club,Charitable Event,Featured,Golf Outing,Registration Required
ATTACH;FMTTYPE=image/jpeg:https://wheatonparkdistrict.com/wp-content/uploads/Mike-Williams-Cosley-Zoo-Classic.jpg
END:VEVENT
BEGIN:VEVENT
DTSTART;TZID=America/Chicago:20260806T173000
DTEND;TZID=America/Chicago:20260806T190000
DTSTAMP:20260422T081432
CREATED:20260410T214012Z
LAST-MODIFIED:20260417T211647Z
UID:18232-1786037400-1786042800@wheatonparkdistrict.com
SUMMARY:8/6: Stars & Stripes Family Fun Night
DESCRIPTION:Stars & Stripes Family Fun NightThursday\, August 6 | 5:30-7P | Rathje Park (616 Delles Rd.) | FREE!Let’s celebrate 250 years of our amazing country! Join us for a patriotic picnic in the park! We will have popsicles\, crafts\, games and more!
URL:https://wheatonparkdistrict.com/events/8-6-stars-stripes-family-fun-night/
LOCATION:Rathje Park\, 616 Delles Rd\, Wheaton\, IL\, 60187\, United States
CATEGORIES:celebrating250,Family-friendly,Featured
ATTACH;FMTTYPE=image/png:https://wheatonparkdistrict.com/wp-content/uploads/Stars-and-Stripes-Family-Fun-Night-.png
END:VEVENT
BEGIN:VEVENT
DTSTART;TZID=America/Chicago:20260807T180000
DTEND;TZID=America/Chicago:20260807T213000
DTSTAMP:20260422T081432
CREATED:20260420T193547Z
LAST-MODIFIED:20260420T193547Z
UID:18293-1786125600-1786138200@wheatonparkdistrict.com
SUMMARY:8/7: Double Vision – The Foreigner Experience with Strung Out – The Ultimate ’70s Musical Experience
DESCRIPTION:Double Vision – The Foreigner Experience with Strung Out – The Ultimate ’70s Musical ExperienceFriday\, August 7 | 6-9:30P | Gate opens at 5P | Memorial Park$10 in advance† | $12 at the gate\n†Plus processing fee \nPurchase TicketsPerformance Details:8-9:30P | Double Vision – The Foreigner Experience \nWelcome To The Legitimate Foreigner Tribute. \nBoasting some of New Jersey’s top professional rock musicians\, Double Vision delivers the highest level of integrity and technical prowess to bring you all the hits from the band that you’ve come to love. With their recent signing to Frontiers Music SRL\, one of the most prestigious rock labels on the planet\, Double Vision has achieved a milestone as one of the very first tribute acts in the world to secure a record deal. Honoring Foreigner and its audience\, they offer a show second to none. \nWebsite: doublevisiontheband.com \n6-7:15P | Strung Out – The Ultimate ’70s Musical Experience \nStrung Out is Chicago’s Ultimate ’70s Musical Experience. \nWe’ve dug through the incredible treasure trove of classic ’70s music that other bands overlook and found the greatest songs that are as diverse as the decade itself! Rock\, soul\, funk and fantastic One Hit Wonders that are instantly recognizable and deeply woven into the fabric of our culture and our memories. \nSince 2012\, Strung Out has been capturing the attention of a large following\, as well as clubs\, festivals and corporate event planners throughout the area. Strung Out recreates the songs and their era with a happy\, entertaining\, and engaging show that has you singing and dancing along. It’s a whole night of “Wow\, I remember that one!” moments. And the addition of the electric cello\, creates a fresh and amazing sound that breaks the mold of every other classic rock band. Come to a Strung Out show and see for yourself! \nWebsite: strungoutband.com
URL:https://wheatonparkdistrict.com/events/8-7-double-vision-the-foreigner-experience-with-strung-out-the-ultimate-70s-musical-experience/
LOCATION:Memorial Park Bandshell\, 225 Karlskoga Avenue\, Wheaton\, Illinois\, 60187
CATEGORIES:Featured,Memorial Park Concerts
ATTACH;FMTTYPE=image/jpeg:https://wheatonparkdistrict.com/wp-content/uploads/AUG-7.jpg
END:VEVENT
BEGIN:VEVENT
DTSTART;VALUE=DATE:20260815
DTEND;VALUE=DATE:20261001
DTSTAMP:20260422T081432
CREATED:20260410T204827Z
LAST-MODIFIED:20260410T205013Z
UID:18229-1786752000-1790812799@wheatonparkdistrict.com
SUMMARY:8/15-9/30: DuPage County Historical Museum Marks 250th w/ Historic Programs
DESCRIPTION:DuPage County Historical Museum Marks 250th w/ Historic Programs8/15-9/30 | DuPage County Historical Museum (102 E. Wesley St.)DIY Creative Crafting: Stars & StripesSaturday\, August 15 | 1-3P\nCreate an American flag artwork while learning about various national flags since the birth of the nation. This is a family drop-in event.RegisterFounding Mothers with Laura Keyes\nSaturday\, September 26 | 1P\nThe “Mothers” of America aren’t often mentioned – the women whose influence on the early years of the United States reverberated for centuries afterwards. While many of us remember reading something about Martha Washington and Abigail Adams\, there are so many more women to admire. Whether they assisted in the years-long Revolutionary War\, or had one brief moment of heroism\, their actions had long-lasting and nation-building effects. Learn about soldiers\, writers\, printers\, scholars\, farmers\, artists\, and spies – all women\, and all vital to our nation’s history. \nThis Illustrated Lecture focuses on the remarkable women who had a first-hand view of the founding of our nation\, and whose stories need to be shared. Join Laura Keyes as she shares their history\, their bravery\, and their surprising legacies. \nRegisterCountdown to 250: Celebrating Our Freedom with Terry Lynch\nWednesday\, September 30 | 7P\nTerry Lynch leads us on a tour of previous milestones like the 50th Jubilee\, Centennial\, Sesquicentennial\, and Bicentennial and how they were commemorated as the United States celebrates its 250th birthday! \nRegister
URL:https://wheatonparkdistrict.com/events/8-15-9-30-dupage-county-historical-museum-marks-250th-w-historic-programs/
LOCATION:DuPage County Historical Museum\, 102 E Wesley St\, Wheaton\, IL\, 60187\, United States
CATEGORIES:celebrating250,DuPage County Historical Museum,Featured
ATTACH;FMTTYPE=image/png:https://wheatonparkdistrict.com/wp-content/uploads/the-250-anniv-of-the-us-exhibit-5.png
END:VEVENT
BEGIN:VEVENT
DTSTART;VALUE=DATE:20260815
DTEND;VALUE=DATE:20261115
DTSTAMP:20260422T081432
CREATED:20260113T161046Z
LAST-MODIFIED:20260114T161809Z
UID:17819-1786752000-1794700799@wheatonparkdistrict.com
SUMMARY:8/15: The Mother Road & Iconic DuPage Firsts Exhibit
DESCRIPTION:The Mother Road & Iconic DuPage Firsts ExhibitAugust 15 – November 14\, 2026 | DuPage County Historical MuseumTake a ride down memory lane on Route 66. This year the legendary “Mother Road” turns 100! Celebrate this golden anniversary along with other iconic firsts in DuPage County. Learn about the first 18-hole golf course\, the first rails-to-trails conversion\, the first public library\, and the first shot fired at Gettysburg. \nContributors:
URL:https://wheatonparkdistrict.com/events/8-15-the-mother-road-iconic-dupage-firsts-exhibit/
LOCATION:DuPage County Historical Museum\, 102 E Wesley St\, Wheaton\, IL\, 60187\, United States
CATEGORIES:Featured
ATTACH;FMTTYPE=image/jpeg:https://wheatonparkdistrict.com/wp-content/uploads/Route-66-Logo-Heading.jpg
END:VEVENT
BEGIN:VEVENT
DTSTART;TZID=America/Chicago:20260815T100000
DTEND;TZID=America/Chicago:20260815T120000
DTSTAMP:20260422T081432
CREATED:20260224T202458Z
LAST-MODIFIED:20260317T150658Z
UID:18028-1786788000-1786795200@wheatonparkdistrict.com
SUMMARY:8/15: Summer Saturday: Storybook Adventure
DESCRIPTION:Summer Saturday: Storybook AdventureSaturday\, August 15 | 10A-12PSensory Garden Playground | 2751 International Drive\, LisleCome by the Sensory Garden Playground for all-inclusive play! \nOnce upon a time at a playground in Lisle\, Illinois\, there was a grand festival to tell the stories of the land. Join us at our final Summer Saturday of 2026\, where\, in collaboration with local libraries\, we will be hosting story time at the playground! \nThere will be story time options available to playground visitors\, held every 30 minutes\, each at a different part of the playground. Playground visitors can try their hand at finding hidden stickers of famous storybook characters throughout the playground. Our craft activity allows guests to design their own bookmark. Other activities to be announced! \nSummer Saturdays are held from 10A to noon at the playground. The event is free\, but registration is encouraged\, and there is a $5 suggested donation per family. Water bottles from Culligan will be available at the playground. In the event of inclement weather\, the Summer Saturday may be cancelled. \nLet us know you’re coming!Going to a Summer Saturday | Social Story™ \nThe Wheaton Park District understands that visiting a new place or engaging in public activities can sometimes be challenging for individuals with different needs. That’s why we offer Social Stories™ to help visitors feel comfortable and confident. \n* The terms ‘social story’ and ‘social stories’ are trademarks originated and owned by Carol Gray. https://carolgraysocialstories.com/social-stories/ \nPresented bySummer Saturdays is supported by
URL:https://wheatonparkdistrict.com/events/8-15-summer-saturday-storybook-adventure/
LOCATION:Sensory Garden Playground\, 2751 International Dr.\, Lisle\, IL\, 60532\, United States
CATEGORIES:Family-friendly,Featured
ATTACH;FMTTYPE=image/png:https://wheatonparkdistrict.com/wp-content/uploads/Summer-Saturday-Storybook-Adventure.png
END:VEVENT
BEGIN:VEVENT
DTSTART;TZID=America/Chicago:20260911T180000
DTEND;TZID=America/Chicago:20260911T213000
DTSTAMP:20260422T081432
CREATED:20260420T195527Z
LAST-MODIFIED:20260420T195527Z
UID:18297-1789149600-1789162200@wheatonparkdistrict.com
SUMMARY:9/11: Sins N’ Roses – Chicago’s Guns N’ Roses Illusion with Eliminator – A Tribute to ZZ Top
DESCRIPTION:Sins N’ Roses – Chicago’s Guns N’ Roses Illusion with Eliminator – A Tribute to ZZ TopFriday\, September 11 | 6-9:30P | Gate opens at 5P | Memorial Park$10 in advance† | $12 at the gate\n†Plus processing fee \nPurchase TicketsPerformance Details:8-9:30P | Sins N’ Roses – Chicago’s Guns N’ Roses Illusion \nSins N’ Roses is one of the nations most authentic Guns N’ Roses tributes – rocking the iconic band’s legendary songs LIVE AND LOUD! \nOver the past three years\, Sins N’ Roses has played across the Mid West to tens of thousands of passionate GnR fans – of all ages. They perform over 40 GnR classics – mega hits like Sweet Child of Mine\, Welcome to the Jungle\, November Rain and Paradise City – with note for note musical authenticity – and that bad boy swagger. \nThe band rehearses relentlessly and uses vintage instruments to replicate Guns N’ Roses live performances – fans say the band sounds exactly like Guns N’ Roses from their MTV heyday! \nWebsite: sinsnroses.com \n6-7:15P | Eliminator – A Tribute to ZZ Top \nFounded in Chicago in October 1992\, Eliminator is the longest-running ZZ Top tribute act in the world. No one has been doing this longer — not in America\, not anywhere. Three decades of continuous touring across all 50 states have produced a show that is simply impossible to replicate. \nFrom the iconic fur-covered guitars to the synchronized shuffles and full replica stage attire\, every detail is dialed in to deliver an experience that honors one of rock’s most legendary and distinctive bands. The hats. The beards. The moves. The music. All of it\, every night. \nEliminator has shared stages with Lita Ford\, Night Ranger\, Foghat\, Georgia Satellites\, Jackyl\, Pat Travers\, Henry Lee Summer\, and Wayne Cochran — and been featured on AXS TV’s World’s Greatest Tribute Bands\, filmed live at the Whisky A Go Go in Hollywood.
URL:https://wheatonparkdistrict.com/events/9-11-sins-n-roses-chicagos-guns-n-roses-illusion-with-eliminator-a-tribute-to-zz-top/
LOCATION:Memorial Park Bandshell\, 225 Karlskoga Avenue\, Wheaton\, Illinois\, 60187
CATEGORIES:Featured,Memorial Park Concerts
ATTACH;FMTTYPE=image/jpeg:https://wheatonparkdistrict.com/wp-content/uploads/SEPT-11.jpg
END:VEVENT
BEGIN:VEVENT
DTSTART;TZID=America/Chicago:20260912T180000
DTEND;TZID=America/Chicago:20260912T213000
DTSTAMP:20260422T081432
CREATED:20260420T200017Z
LAST-MODIFIED:20260420T200017Z
UID:18299-1789236000-1789248600@wheatonparkdistrict.com
SUMMARY:9/12: Sons of Chicago – A Tribute to Bruce Springsteen & Bob Seger with Gold Dust Dreams – A Tribute to Fleetwood Mac
DESCRIPTION:Sons of Chicago – A Tribute to Bruce Springsteen & Bob Seger with Gold Dust Dreams – A Tribute to Fleetwood MacSaturday\, September 12 | 6-9:30P | Gate opens at 5P | Memorial Park$10 in advance† | $12 at the gate\n†Plus processing fee \nPurchase TicketsPerformance Details:8-9:30P | Sons of Chicago – A Tribute to Bruce Springsteen & Bob Seger \nThe Sons of Chicago are a band of eight rocking professional musicians that pay homage to two iconic American artists in the same show. \nAnthems and deep cuts about the dreams\, hope\, hardship and glory of life in the U.S.A. – Springsteen’s Rosalita\, Thunder Road\, Badlands\, Dancing in the Dark\, Promised Land\, Spirit of the Night\, Tenth Avenue Freezeout\, Darlington County\, Bobby Jean\, Light of Day\, The Rising\, Nebraska\, Born to Run; and Seger’s masterworks Roll Me Away\, Rock n Roll Never Forgets\, Fire Down Below\, Turn the Page\, Like a Rock\, Katmandu and others – are performed with the same emotional energy as the originals. \nEvery lyric is a memory\, every riff a heartbeat\, keeping the audience rocking\, dancing and singing with the band. \nWebsite: sonsofchicagomusic.com \n6-7:15P | Gold Dust Dreams – A Tribute to Fleetwood Mac \nWhen it comes to tribute acts\, no one performs with more passion and accuracy than Gold Dust Dreams. Fleetwood Mac fans flock to their shows to hear the songs that defined multiple generations. With over 120 million records sold\, Fleetwood Mac has provided the soundtrack for multiple generations of fans across the world. Their songs connect with the audience on an emotional level like no other\, bringing people back to a special place in time. \nGold Dust Dreams embodies the spirit of Fleetwood Mac and goes to great lengths to recreate their greatest hits at each performance\, taking you on a journey through the career of one of the most successful bands of our time. Strap in and get ready for an incredible evening of Fleetwood Mac music. \nWebsite: golddustdreams.com
URL:https://wheatonparkdistrict.com/events/9-12-sons-of-chicago-a-tribute-to-bruce-springsteen-bob-seger-with-gold-dust-dreams-a-tribute-to-fleetwood-mac/
LOCATION:Memorial Park Bandshell\, 225 Karlskoga Avenue\, Wheaton\, Illinois\, 60187
CATEGORIES:Featured,Memorial Park Concerts
ATTACH;FMTTYPE=image/jpeg:https://wheatonparkdistrict.com/wp-content/uploads/SEPT-12.jpg
END:VEVENT
BEGIN:VEVENT
DTSTART;TZID=America/Chicago:20260923T190000
DTEND;TZID=America/Chicago:20260923T200000
DTSTAMP:20260422T081432
CREATED:20260113T155632Z
LAST-MODIFIED:20260114T161855Z
UID:17812-1790190000-1790193600@wheatonparkdistrict.com
SUMMARY:9/23: Remembering Route 66 with Leslie Goddard
DESCRIPTION:Remembering Route 66 with Leslie GoddardWednesday\, September 23 | 7P | DuPage County Historical Museum Auditorium | FREEThe name evokes images of gas stations\, mom-and-pop motels\, quirky attractions\, and adventure on the open road. In this nostalgia-packed lecture\, historian Leslie Goddard explores the history of Route 66\, the iconic road that linked Chicago to Los Angeles from 1926 until its closing in the mid-1980s. Learn why Route 66 remains so indelibly associated with the lore of the American road trip. What was Route 66 like at its pinnacle – and what is it today? \nRegister NowContributors:
URL:https://wheatonparkdistrict.com/events/9-23-remembering-route-66-with-leslie-goddard/
LOCATION:DuPage County Historical Museum\, 102 E Wesley St\, Wheaton\, IL\, 60187\, United States
CATEGORIES:Featured
ATTACH;FMTTYPE=image/jpeg:https://wheatonparkdistrict.com/wp-content/uploads/Route-66-Logo-Heading.jpg
END:VEVENT
BEGIN:VEVENT
DTSTART;TZID=America/Chicago:20260926T083000
DTEND;TZID=America/Chicago:20260926T100000
DTSTAMP:20260422T081432
CREATED:20260413T194319Z
LAST-MODIFIED:20260413T194319Z
UID:18244-1790411400-1790416800@wheatonparkdistrict.com
SUMMARY:9/26: Planting Roots\, Growing the Next 250 Years
DESCRIPTION:Planting Roots\, Growing the Next 250 YearsSaturday\, September 26 | 8:30-10A | Lincoln Marsh (Harrison Ave. & Pierce Ave.)Join us for an all-ages celebration of America’s 250th Anniversary on National Public Lands Day. Roll up your sleeves to plant\, explore\, and learn together as we care for our shared public lands. Celebrate 250 years not just by looking back\, but by planting forward and leaving a living legacy for generations to come. \n*Stay tuned for registration details.
URL:https://wheatonparkdistrict.com/events/9-26-planting-roots-growing-the-next-250-years/
LOCATION:Lincoln Marsh\, Harrison Ave & Pierce Ave\, Wheaton\, IL\, 60187
CATEGORIES:celebrating250,Conservation,Family-friendly,Featured,Lincoln Marsh
ATTACH;FMTTYPE=image/jpeg:https://wheatonparkdistrict.com/wp-content/uploads/Planting-Roots-Growing-the-Next-250-Years.jpg
END:VEVENT
BEGIN:VEVENT
DTSTART;VALUE=DATE:20261205
DTEND;VALUE=DATE:20261206
DTSTAMP:20260422T081432
CREATED:20230301T060154Z
LAST-MODIFIED:20251210T164827Z
UID:1753-1796428800-1796515199@wheatonparkdistrict.com
SUMMARY:12/5: Lions Charities Reindeer Run
DESCRIPTION:Special thanks to everyone who made the 2025 Reindeer Run such a great time!\nPlease check back for details to be posted about the 2026 Reindeer Run. \nLions Charities Reindeer RunDecember 5\, 2026 | Downtown Wheaton\nIt’s the most wonderful run of the year! The 14th annual Lions Charities Reindeer Run 5K is bringing festive fun to town. Grab your Santa hats\, dust off those antlers and jingle bells\, and get ready to Run\, Run\, Rudolph! Bring your friends\, family\, and holiday cheer for a morning full of holly jolly joy. Presented in partnership by Wheaton Park District and Lions Club Charities\, we welcome participants to walk\, jog\, or run – just don’t miss the fun! \nThis is a chip-timed race. Overall winners and individual age category winners are determined by chip time. All participants receive a long-sleeve shirt\, reindeer antlers\, and a finisher medal. Shirt sizes are available on a first-come\, first-served basis. \n\n \n2025 Reindeer Run Race Route (PDF) \nRACE RESULTS & AWARDS:The top overall winners will be announced immediately following the race. All other age category winners will be contacted by email after the race with details on where and when to pick up their awards. \nRace Results2024 IMAGE GALLERY:Photos by Patrick Corrado \nPARTNERSHIP OPPORTUNITIESFor more information\, please contact events@wheatonparks.org. \nCONTACT USFor more information\, please contact events@wheatonparks.org. \nTHANK YOU TO OUR 2025 SPONSORS
URL:https://wheatonparkdistrict.com/events/reindeerrun/
LOCATION:Downtown Wheaton\, United States
CATEGORIES:5K,Charitable Event,Downtown Wheaton,DuPage County Historical Museum,Entertainment,Family-friendly,Featured,Holiday,Registration Required,Volunteer Opportunities
ATTACH;FMTTYPE=image/jpeg:https://wheatonparkdistrict.com/wp-content/uploads/Reindeer-Run-2024.jpg
ORGANIZER;CN="Carolyn Wilkin":MAILTO:cwilkin@wheatonparks.org
END:VEVENT
END:VCALENDAR